BEGIN:VCALENDAR
VERSION:2.0
PRODID:-//Scriptorium - ECPv6.15.18//NONSGML v1.0//EN
CALSCALE:GREGORIAN
METHOD:PUBLISH
X-WR-CALNAME:Scriptorium
X-ORIGINAL-URL:https://www.scriptorium.com
X-WR-CALDESC:Events for Scriptorium
REFRESH-INTERVAL;VALUE=DURATION:PT1H
X-Robots-Tag:noindex
X-PUBLISHED-TTL:PT1H
BEGIN:VTIMEZONE
TZID:America/New_York
BEGIN:DAYLIGHT
TZOFFSETFROM:-0500
TZOFFSETTO:-0400
TZNAME:EDT
DTSTART:20250309T070000
END:DAYLIGHT
BEGIN:STANDARD
TZOFFSETFROM:-0400
TZOFFSETTO:-0500
TZNAME:EST
DTSTART:20251102T060000
END:STANDARD
BEGIN:DAYLIGHT
TZOFFSETFROM:-0500
TZOFFSETTO:-0400
TZNAME:EDT
DTSTART:20260308T070000
END:DAYLIGHT
BEGIN:STANDARD
TZOFFSETFROM:-0400
TZOFFSETTO:-0500
TZNAME:EST
DTSTART:20261101T060000
END:STANDARD
BEGIN:DAYLIGHT
TZOFFSETFROM:-0500
TZOFFSETTO:-0400
TZNAME:EDT
DTSTART:20270314T070000
END:DAYLIGHT
BEGIN:STANDARD
TZOFFSETFROM:-0400
TZOFFSETTO:-0500
TZNAME:EST
DTSTART:20271107T060000
END:STANDARD
END:VTIMEZONE
BEGIN:VEVENT
DTSTART;VALUE=DATE:20260418
DTEND;VALUE=DATE:20260420
DTSTAMP:20260419T145950
CREATED:20260218T215820Z
LAST-MODIFIED:20260218T220237Z
UID:23418-1776470400-1776643199@www.scriptorium.com
SUMMARY:AEM Guides conference 2026
DESCRIPTION:Will we see you in sunny Las Vegas for the 2026 AEM Guides conference? If so\, make sure you hear Sarah O’Keefe’s keynote session! \nThe Great Escape: Managing Content in an AI World \nJoin us as Sarah talks through the strategic implications of AI for content professionals: the power shift from authors to consumers\, the rise of synthetic content\, and the role of trust. \nRegister on the conference website. \nWant to meet with Sarah during the event? Contact us!
URL:https://www.scriptorium.com/event/aem-guides-conference-2026/
LOCATION:The Venetian Resort Las Vegas\, 3325-3355 S. Las Vegas Boulevard\, Las Vegas\, NV\, United States
END:VEVENT
BEGIN:VEVENT
DTSTART;TZID=America/New_York:20260513T110000
DTEND;TZID=America/New_York:20260513T120000
DTSTAMP:20260419T145950
CREATED:20260319T184845Z
LAST-MODIFIED:20260319T185628Z
UID:23441-1778670000-1778673600@www.scriptorium.com
SUMMARY:Conversational AI: The Cost of Ignoring Structured Content
DESCRIPTION:Conversational AI is everywhere\, but reliable AI responses depend on reliable content. So\, how do you ensure your content is reliable? Join us on Wednesday\, May 13th\, at 11 am Eastern for our next episode of “Let’s Talk ContentOps!” \n \n \nGuest Rahel Bailie\, Content Solutions Strategist at Content Seriously\, and host Sarah O’Keefe\, Founder & CEO of Scriptorium\, examine how the intersection of structured content and conversational AI has evolved. They also discuss practical next steps that organizations can take to create a successful AI content strategy. \nDuring the show\, attendees will learn: \n\nWhat structured content is and how it fuels reliable conversational AI responses\nHow technical writers and conversation designers can collaborate for optimal output\nThe practical next steps for creating successful AI outcomes\n\nRegister for the webinar on BrightTalk \nCan’t make it to the live show? Register\, and we’ll send you the recording! \nLet’s Talk ContentOps is brought to you by The Content Wrangler\, Scriptorium Publishing\, and is sponsored by Heretto\, a powerful component content management system (CCMS) platform to deploy help and API documentation in a single portal designed to delight your customers.
URL:https://www.scriptorium.com/event/conversational-ai-the-cost-of-ignoring-structured-content/
END:VEVENT
END:VCALENDAR