BEGIN:VCALENDAR
VERSION:2.0
PRODID:-//Scriptorium - ECPv6.15.18//NONSGML v1.0//EN
CALSCALE:GREGORIAN
METHOD:PUBLISH
X-WR-CALNAME:Scriptorium
X-ORIGINAL-URL:https://www.scriptorium.com
X-WR-CALDESC:Events for Scriptorium
REFRESH-INTERVAL;VALUE=DURATION:PT1H
X-Robots-Tag:noindex
X-PUBLISHED-TTL:PT1H
BEGIN:VTIMEZONE
TZID:America/New_York
BEGIN:DAYLIGHT
TZOFFSETFROM:-0500
TZOFFSETTO:-0400
TZNAME:EDT
DTSTART:20180311T070000
END:DAYLIGHT
BEGIN:STANDARD
TZOFFSETFROM:-0400
TZOFFSETTO:-0500
TZNAME:EST
DTSTART:20181104T060000
END:STANDARD
BEGIN:DAYLIGHT
TZOFFSETFROM:-0500
TZOFFSETTO:-0400
TZNAME:EDT
DTSTART:20190310T070000
END:DAYLIGHT
BEGIN:STANDARD
TZOFFSETFROM:-0400
TZOFFSETTO:-0500
TZNAME:EST
DTSTART:20191103T060000
END:STANDARD
BEGIN:DAYLIGHT
TZOFFSETFROM:-0500
TZOFFSETTO:-0400
TZNAME:EDT
DTSTART:20200308T070000
END:DAYLIGHT
BEGIN:STANDARD
TZOFFSETFROM:-0400
TZOFFSETTO:-0500
TZNAME:EST
DTSTART:20201101T060000
END:STANDARD
BEGIN:DAYLIGHT
TZOFFSETFROM:-0500
TZOFFSETTO:-0400
TZNAME:EDT
DTSTART:20210314T070000
END:DAYLIGHT
BEGIN:STANDARD
TZOFFSETFROM:-0400
TZOFFSETTO:-0500
TZNAME:EST
DTSTART:20211107T060000
END:STANDARD
END:VTIMEZONE
BEGIN:VEVENT
DTSTART;TZID=America/New_York:20200827T130000
DTEND;TZID=America/New_York:20200827T140000
DTSTAMP:20260420T030128
CREATED:20200708T170227Z
LAST-MODIFIED:20200708T171317Z
UID:19807-1598533200-1598536800@www.scriptorium.com
SUMMARY:Think global\, act global\, go global webcast
DESCRIPTION:Entering new language markets requires more than just translation. To succeed\, you must provide the same quality product or service to each market; you must provide a unified\, localized customer experience. Going global requires a localization strategy. For that strategy to succeed\, people from across your organization need to collaborate and begin thinking globally. Join Bill Swallow and learn to think global\, act global\, and go global. \nRegister for free: \n\n\n                \n                        First name:*Last name:*Email:*Organization:*Job title:*What questions do you have about localization?Please contact me to set up a meeting to discuss content challenges.*\n								\n								Yes\n							\n								\n								No\n							Data collection*\n								\n								I consent to my submitted data being collected and stored.
URL:https://www.scriptorium.com/event/think-global-act-global-go-global-webcast/
LOCATION:Online
ATTACH;FMTTYPE=image/jpeg:https://www.scriptorium.com/wp-content/uploads/2017/06/logo1.jpg
END:VEVENT
BEGIN:VEVENT
DTSTART;TZID=America/New_York:20200728T130000
DTEND;TZID=America/New_York:20200728T140000
DTSTAMP:20260420T030128
CREATED:20200608T165402Z
LAST-MODIFIED:20200608T171718Z
UID:19724-1595941200-1595944800@www.scriptorium.com
SUMMARY:Not all digital is transformation webcast
DESCRIPTION:Transitioning your content from a print-oriented to a digital-focused workflow makes a huge difference in the way you provide information to customers. In a digital environment\, you have the opportunity to offer your customers smarter\, more flexible content. But how do you make sure you’re not simply replicating your print-based content in a digital format? Gretyl Kinsey will share some examples of digital content production done well and not-so-well\, and discuss practical tips for ensuring that you make the most out of your digital transformation. \nRegister for free: \n\n                \n                        First name:*Last name:*Email:*Organization:*Job title:*What questions do you have about digital transformation?Please contact me to set up a meeting to discuss content challenges.*\n								\n								Yes\n							\n								\n								No\n							Data collection*\n								\n								I consent to my submitted data being collected and stored.
URL:https://www.scriptorium.com/event/not-all-digital-is-transformation-webcast/
LOCATION:Online
ATTACH;FMTTYPE=image/jpeg:https://www.scriptorium.com/wp-content/uploads/2017/06/logo1.jpg
END:VEVENT
BEGIN:VEVENT
DTSTART;TZID=America/New_York:20200715T120000
DTEND;TZID=America/New_York:20200715T180000
DTSTAMP:20260420T030128
CREATED:20200630T163920Z
LAST-MODIFIED:20200630T164757Z
UID:19795-1594814400-1594836000@www.scriptorium.com
SUMMARY:Adobe Special Event
DESCRIPTION:Adobe is hosting a special event online on July 15th\, 2020. Join Sarah O’Keefe at 12:30 p.m. ET. She’s presenting Why technical communication must be part of your marketing strategy. \nRegister at adobe.com.
URL:https://www.scriptorium.com/event/adobe-special-event/
LOCATION:Online
ATTACH;FMTTYPE=image/png:https://www.scriptorium.com/wp-content/uploads/2020/06/adobe-technical-communication_cropped.png
END:VEVENT
BEGIN:VEVENT
DTSTART;TZID=America/New_York:20200623T130000
DTEND;TZID=America/New_York:20200623T140000
DTSTAMP:20260420T030128
CREATED:20200511T175116Z
LAST-MODIFIED:20200613T172550Z
UID:19671-1592917200-1592920800@www.scriptorium.com
SUMMARY:Surviving and thriving with AEM and DITA webcast
DESCRIPTION:This webcast discusses general best practices for CCMS implementations\, along with a specific focus on the AEM DITA CCMS. Attendees will learn how the DITA XML content architecture fits into the larger AEM ecosystem and explore a variety of options for content integration and delivery. \nRegister for free: \n\n                \n                        First name:*Last name:*Email:*Organization*Job title*What questions do you have about surviving and thriving with AEM and DITA?Please contact me to set up a meeting to discuss content challenges.*\n								\n								Yes\n							\n								\n								No\n							Data collection*\n								\n								I consent to my submitted data being collected and stored.
URL:https://www.scriptorium.com/event/surviving-and-thriving-with-aem-and-dita-webcast/
LOCATION:Online
ATTACH;FMTTYPE=image/jpeg:https://www.scriptorium.com/wp-content/uploads/2017/06/logo1.jpg
END:VEVENT
BEGIN:VEVENT
DTSTART;TZID=America/New_York:20200610T090000
DTEND;TZID=America/New_York:20200610T110000
DTSTAMP:20260420T030128
CREATED:20200603T162943Z
LAST-MODIFIED:20200603T162943Z
UID:19712-1591779600-1591786800@www.scriptorium.com
SUMMARY:tekom Israel webinar
DESCRIPTION:Sarah O’Keefe is presenting Single-sourcing\, the Sequel. \nIn this presentation\, you’ll learn about the promise of single-sourcing–consistent output to a variety of channels from one content repository–and the challenges of this approach in today’s complex content universe. Instead of focusing on a single common content source\, modern content delivery focuses on delivering a consistent end result–even if it is not derived from a single content source. \nRegister.
URL:https://www.scriptorium.com/event/tekom-israel-webinar/
LOCATION:Online
END:VEVENT
BEGIN:VEVENT
DTSTART;TZID=America/New_York:20200527T130000
DTEND;TZID=America/New_York:20200527T140000
DTSTAMP:20260420T030128
CREATED:20200427T184224Z
LAST-MODIFIED:20200527T191001Z
UID:19648-1590584400-1590588000@www.scriptorium.com
SUMMARY:InDesign and DITA webcast
DESCRIPTION:Curious about using DITA in InDesign? Join Jake Campbell as he talks about how you can utilize automated processes in a high-design environment. \nRecording will be available soon.
URL:https://www.scriptorium.com/event/indesign-and-dita-webcast/
LOCATION:Online
ATTACH;FMTTYPE=image/jpeg:https://www.scriptorium.com/wp-content/uploads/2017/06/logo1.jpg
END:VEVENT
BEGIN:VEVENT
DTSTART;TZID=America/New_York:20200428T130000
DTEND;TZID=America/New_York:20200428T140000
DTSTAMP:20260420T030128
CREATED:20200410T140226Z
LAST-MODIFIED:20200429T171124Z
UID:19607-1588078800-1588082400@www.scriptorium.com
SUMMARY:Taxonomy planning webcast
DESCRIPTION:Introducing The Content Strategy Experts webcast! \nGetting ready to set up a taxonomy? Join Bill Swallow and Gretyl Kinsey as they share some of the most important steps to take when planning for your taxonomy. \n 
URL:https://www.scriptorium.com/event/taxonomy-planning/
LOCATION:Online
ATTACH;FMTTYPE=image/jpeg:https://www.scriptorium.com/wp-content/uploads/2017/06/logo1.jpg
END:VEVENT
BEGIN:VEVENT
DTSTART;VALUE=DATE:20200210
DTEND;VALUE=DATE:20200213
DTSTAMP:20260420T030128
CREATED:20191114T211318Z
LAST-MODIFIED:20191115T155750Z
UID:19349-1581292800-1581551999@www.scriptorium.com
SUMMARY:LearningDITA Live 2020
DESCRIPTION:Dive deeper into DITA at the third LearningDITA Live event. \nWith beginner\, intermediate\, and advanced sessions\, along with case studies\, there’s something here for everyone. We hope you can attend live and ask questions. Sessions will be recorded and available for you to view the following week. \nFollow @LearningDITA for event updates. \nRegister here.
URL:https://www.scriptorium.com/event/learningdita-live-2020/
LOCATION:Online
ATTACH;FMTTYPE=image/png:https://www.scriptorium.com/wp-content/uploads/2019/11/ld-live-logo-cropped.png
END:VEVENT
BEGIN:VEVENT
DTSTART;VALUE=DATE:20200128
DTEND;VALUE=DATE:20200130
DTSTAMP:20260420T030128
CREATED:20191114T212655Z
LAST-MODIFIED:20191114T213022Z
UID:19355-1580169600-1580342399@www.scriptorium.com
SUMMARY:CIDM IDEAS Conference
DESCRIPTION:Join Gretyl Kinsey on January 28th at 1:30 p.m. ET for her presentation\, Not All Digital is Transformation. Learn how to plan for a move to a digital workflow and best practices to use to ensure that a digital transformation is successful. \nRegister here.
URL:https://www.scriptorium.com/event/cidm-ideas-conference/
LOCATION:Online
END:VEVENT
BEGIN:VEVENT
DTSTART;TZID=America/New_York:20191205T110000
DTEND;TZID=America/New_York:20191205T120000
DTSTAMP:20260420T030128
CREATED:20191114T211855Z
LAST-MODIFIED:20191115T153549Z
UID:19352-1575543600-1575547200@www.scriptorium.com
SUMMARY:LearningDITA Live Series
DESCRIPTION:Gretyl Kinsey presents Extreme conditions in DITA on December 5th at 11:00 a.m. ET. \nDo your customers need different variants of your documentation? Is there content you should include in some product documents and exclude from others? Conditions in DITA make it possible. This session explains how to set up conditional content in DITA\, from the basics to advanced reuse techniques\, so that you can plan for custom content delivery. \nFollow @LearningDITA to get updates via Twitter. \nRegister here. 
URL:https://www.scriptorium.com/event/learningdita-live-series-2/
LOCATION:Online
END:VEVENT
BEGIN:VEVENT
DTSTART;VALUE=DATE:20191027
DTEND;VALUE=DATE:20191031
DTSTAMP:20260420T030128
CREATED:20190521T204035Z
LAST-MODIFIED:20190613T153233Z
UID:18832-1572134400-1572479999@www.scriptorium.com
SUMMARY:LavaCon 2019
DESCRIPTION:Scriptorium will be exhibiting\, sponsoring\, and presenting at the 17th annual LavaCon conference. Join Sarah O’Keefe on Tuesday\, October 29th at 8:30 a.m. for her presentation\, Adapt or die: the challenge of digital transformation. Stop by our booth during the conference for chocolate and content strategy! \n  \nContact us to schedule a private meeting during the conference.
URL:https://www.scriptorium.com/event/lavacon-2019/
LOCATION:Hilton Downtown Portland\, 921 Southwest 6th Ave.\, Portland\, OR\, United States
END:VEVENT
BEGIN:VEVENT
DTSTART;VALUE=DATE:20191009
DTEND;VALUE=DATE:20191012
DTSTAMP:20260420T030128
CREATED:20190830T050011Z
LAST-MODIFIED:20190830T174807Z
UID:18950-1570579200-1570838399@www.scriptorium.com
SUMMARY:Adobe DITAWORLD
DESCRIPTION:Join Bill Swallow on October 10th at 6 p.m. ET for his presentation\, Simplify your rebranding efforts with DITA. Learn how investing in a smart content infrastructure can take the pain out of manually rebranding your content. \nRegister here.
URL:https://www.scriptorium.com/event/learningdita-live-series/
LOCATION:Online
END:VEVENT
BEGIN:VEVENT
DTSTART;TZID=America/New_York:20190918T130000
DTEND;TZID=America/New_York:20190918T140000
DTSTAMP:20260420T030128
CREATED:20190613T154045Z
LAST-MODIFIED:20190613T154347Z
UID:19048-1568811600-1568815200@www.scriptorium.com
SUMMARY:Guest webinar with DCL
DESCRIPTION:Join Gretyl Kinsey of Scriptorium and Mark Gross of DCL on September 18th at 1:00 p.m. ET for their presentation\, which is called Rewrite or convert? Preparing your content for automated DITA Conversion. They will discuss key questions you’ll need to answer for a successful DITA conversion. They’ll discuss best practices they’ve seen over the years and also share what not to do before a conversion. \nRegister here.
URL:https://www.scriptorium.com/event/guest-webinar-with-dcl/
LOCATION:Online
END:VEVENT
BEGIN:VEVENT
DTSTART;VALUE=DATE:20190909
DTEND;VALUE=DATE:20190912
DTSTAMP:20260420T030128
CREATED:20190618T200405Z
LAST-MODIFIED:20190820T162944Z
UID:19062-1567987200-1568246399@www.scriptorium.com
SUMMARY:Best Practices Conference
DESCRIPTION:The CIDM Best Practices conference remains the premier annual conference for managers of information development\, whether it be for user and product support\, or training. Join Sarah O’Keefe on September 9th at 3:20 p.m. CDT for her presentation\, What can accounting teach us about measuring content value? \n  \nContact us to schedule a private meeting during the conference.  \n 
URL:https://www.scriptorium.com/event/best-practices-conference/
LOCATION:Omni Austin Hotel Downtown\, 700 San Jacinto Street\, Austin\, TX\, 78701\, United States
END:VEVENT
END:VCALENDAR