BEGIN:VCALENDAR
VERSION:2.0
PRODID:-//Scriptorium - ECPv6.15.18//NONSGML v1.0//EN
CALSCALE:GREGORIAN
METHOD:PUBLISH
X-WR-CALNAME:Scriptorium
X-ORIGINAL-URL:https://www.scriptorium.com
X-WR-CALDESC:Events for Scriptorium
REFRESH-INTERVAL;VALUE=DURATION:PT1H
X-Robots-Tag:noindex
X-PUBLISHED-TTL:PT1H
BEGIN:VTIMEZONE
TZID:America/New_York
BEGIN:DAYLIGHT
TZOFFSETFROM:-0500
TZOFFSETTO:-0400
TZNAME:EDT
DTSTART:20180311T070000
END:DAYLIGHT
BEGIN:STANDARD
TZOFFSETFROM:-0400
TZOFFSETTO:-0500
TZNAME:EST
DTSTART:20181104T060000
END:STANDARD
BEGIN:DAYLIGHT
TZOFFSETFROM:-0500
TZOFFSETTO:-0400
TZNAME:EDT
DTSTART:20190310T070000
END:DAYLIGHT
BEGIN:STANDARD
TZOFFSETFROM:-0400
TZOFFSETTO:-0500
TZNAME:EST
DTSTART:20191103T060000
END:STANDARD
BEGIN:DAYLIGHT
TZOFFSETFROM:-0500
TZOFFSETTO:-0400
TZNAME:EDT
DTSTART:20200308T070000
END:DAYLIGHT
BEGIN:STANDARD
TZOFFSETFROM:-0400
TZOFFSETTO:-0500
TZNAME:EST
DTSTART:20201101T060000
END:STANDARD
END:VTIMEZONE
BEGIN:VEVENT
DTSTART;VALUE=DATE:20191027
DTEND;VALUE=DATE:20191031
DTSTAMP:20260422T043718
CREATED:20190521T204035Z
LAST-MODIFIED:20190613T153233Z
UID:18832-1572134400-1572479999@www.scriptorium.com
SUMMARY:LavaCon 2019
DESCRIPTION:Scriptorium will be exhibiting\, sponsoring\, and presenting at the 17th annual LavaCon conference. Join Sarah O’Keefe on Tuesday\, October 29th at 8:30 a.m. for her presentation\, Adapt or die: the challenge of digital transformation. Stop by our booth during the conference for chocolate and content strategy! \n  \nContact us to schedule a private meeting during the conference.
URL:https://www.scriptorium.com/event/lavacon-2019/
LOCATION:Hilton Downtown Portland\, 921 Southwest 6th Ave.\, Portland\, OR\, United States
END:VEVENT
BEGIN:VEVENT
DTSTART;VALUE=DATE:20191009
DTEND;VALUE=DATE:20191012
DTSTAMP:20260422T043718
CREATED:20190830T050011Z
LAST-MODIFIED:20190830T174807Z
UID:18950-1570579200-1570838399@www.scriptorium.com
SUMMARY:Adobe DITAWORLD
DESCRIPTION:Join Bill Swallow on October 10th at 6 p.m. ET for his presentation\, Simplify your rebranding efforts with DITA. Learn how investing in a smart content infrastructure can take the pain out of manually rebranding your content. \nRegister here.
URL:https://www.scriptorium.com/event/learningdita-live-series/
LOCATION:Online
END:VEVENT
BEGIN:VEVENT
DTSTART;TZID=America/New_York:20190918T130000
DTEND;TZID=America/New_York:20190918T140000
DTSTAMP:20260422T043718
CREATED:20190613T154045Z
LAST-MODIFIED:20190613T154347Z
UID:19048-1568811600-1568815200@www.scriptorium.com
SUMMARY:Guest webinar with DCL
DESCRIPTION:Join Gretyl Kinsey of Scriptorium and Mark Gross of DCL on September 18th at 1:00 p.m. ET for their presentation\, which is called Rewrite or convert? Preparing your content for automated DITA Conversion. They will discuss key questions you’ll need to answer for a successful DITA conversion. They’ll discuss best practices they’ve seen over the years and also share what not to do before a conversion. \nRegister here.
URL:https://www.scriptorium.com/event/guest-webinar-with-dcl/
LOCATION:Online
END:VEVENT
BEGIN:VEVENT
DTSTART;VALUE=DATE:20190909
DTEND;VALUE=DATE:20190912
DTSTAMP:20260422T043718
CREATED:20190618T200405Z
LAST-MODIFIED:20190820T162944Z
UID:19062-1567987200-1568246399@www.scriptorium.com
SUMMARY:Best Practices Conference
DESCRIPTION:The CIDM Best Practices conference remains the premier annual conference for managers of information development\, whether it be for user and product support\, or training. Join Sarah O’Keefe on September 9th at 3:20 p.m. CDT for her presentation\, What can accounting teach us about measuring content value? \n  \nContact us to schedule a private meeting during the conference.  \n 
URL:https://www.scriptorium.com/event/best-practices-conference/
LOCATION:Omni Austin Hotel Downtown\, 700 San Jacinto Street\, Austin\, TX\, 78701\, United States
END:VEVENT
END:VCALENDAR